BEGIN:VCALENDAR
VERSION:2.0
PRODID:-//El Bosque de la Maga Colibrí - ECPv6.14.1//NONSGML v1.0//EN
CALSCALE:GREGORIAN
METHOD:PUBLISH
X-WR-CALNAME:El Bosque de la Maga Colibrí
X-ORIGINAL-URL:https://elbosquedelamagacolibri.es
X-WR-CALDESC:Eventos para El Bosque de la Maga Colibrí
REFRESH-INTERVAL;VALUE=DURATION:PT1H
X-Robots-Tag:noindex
X-PUBLISHED-TTL:PT1H
BEGIN:VTIMEZONE
TZID:Europe/Madrid
BEGIN:DAYLIGHT
TZOFFSETFROM:+0100
TZOFFSETTO:+0200
TZNAME:CEST
DTSTART:20240331T010000
END:DAYLIGHT
BEGIN:STANDARD
TZOFFSETFROM:+0200
TZOFFSETTO:+0100
TZNAME:CET
DTSTART:20241027T010000
END:STANDARD
END:VTIMEZONE
BEGIN:VEVENT
DTSTART;TZID=Europe/Madrid:20241001T180000
DTEND;TZID=Europe/Madrid:20241001T200000
DTSTAMP:20260422T035901
CREATED:20240830T071715Z
LAST-MODIFIED:20240902T115532Z
UID:5481-1727805600-1727812800@elbosquedelamagacolibri.es
SUMMARY:TALLER DE ESCRITURA CREATIVA DE FUENTETAJA impartido por Ricardo Menéndez Salmón
DESCRIPTION:Un taller de iniciación a la escritura creativa coordinado por Ricardo Menéndez Salmón y organizado por la escuela de escritura Fuentetaja. \nDe octubre a junio\, todos los martes de 18 a 20h.\nInformación completa e inscripciones: https://fuentetajaliteraria.com/talleres/taller-de-escritura-creativa-en-gijon/
URL:https://elbosquedelamagacolibri.es/evento/taller-de-escritura-creativa-de-fuentetaja-impartido-por-ricardo-menendez-salmon/
LOCATION:Asturias
CATEGORIES:Escritura creativa
ATTACH;FMTTYPE=image/png:https://elbosquedelamagacolibri.es/wp-content/uploads/2024/08/fuentetajaricardo.png
END:VEVENT
END:VCALENDAR