BEGIN:VCALENDAR
VERSION:2.0
PRODID:-//El Bosque de la Maga Colibrí - ECPv6.14.1//NONSGML v1.0//EN
CALSCALE:GREGORIAN
METHOD:PUBLISH
X-ORIGINAL-URL:https://elbosquedelamagacolibri.es
X-WR-CALDESC:Eventos para El Bosque de la Maga Colibrí
REFRESH-INTERVAL;VALUE=DURATION:PT1H
X-Robots-Tag:noindex
X-PUBLISHED-TTL:PT1H
BEGIN:VTIMEZONE
TZID:Europe/Madrid
BEGIN:DAYLIGHT
TZOFFSETFROM:+0100
TZOFFSETTO:+0200
TZNAME:CEST
DTSTART:20220327T010000
END:DAYLIGHT
BEGIN:STANDARD
TZOFFSETFROM:+0200
TZOFFSETTO:+0100
TZNAME:CET
DTSTART:20221030T010000
END:STANDARD
END:VTIMEZONE
BEGIN:VEVENT
DTSTART;TZID=Europe/Madrid:20220711T100000
DTEND;TZID=Europe/Madrid:20220715T200000
DTSTAMP:20260421T171858
CREATED:20220411T104758Z
LAST-MODIFIED:20220708T150324Z
UID:3759-1657533600-1657915200@elbosquedelamagacolibri.es
SUMMARY:TIEMPO DE LECTURA 2022. VIII Jornadas de Mediación Lectora
DESCRIPTION:EL ASIENTO INCÓMODO. Perspectivas críticas del universo LIJ\ndel 11 al 15 de julio de 2022 \nTiempo de lectura es una propuesta teórica\, práctica y lúdica de formación en el ámbito de la lectura en la infancia y la adolescencia.  En el trabajo cotidiano de mediación lectora\, a menudo nos centramos en los aspectos más funcionales y olvidamos que es imprescindible disfrutar del placer de compartir lecturas\, debatir y crear a partir de ellas.  Por eso preparamos una mesa en la que se servirán Teoría\, Tertulias y Talleres creativos para aprender y deleitarnos rodeadas de libros. \nDirigido a docentes\, personal bibliotecario\, estudiantes\, mediadores\, profesionales del mundo del libro y personas interesadas en la lectura en general. Queremos que te sientes con nosotras\, será incómodo e inspirador. \nEjercen de anfitriones: Freddy Goncalves\, Beatriz San Juan\, Lara Meana e Isabel Benito\, con la colaboración especial de Celia Vallejo. \nPrograma: \nLUNES 11 de julio\nGalaxia LIJ:  Meteoritos sobre los que sentarse a pensar. Panorama incómodo de la LIJ\n10:00  Bienvenida\n10:30  T de Teoría: Literatura Infantil y Juvenil. Con quién podemos encontrarnos en este viaje.\n12:00  T de Tertulia:  De cuerpos celestes: ¿estrellas\, satélites o agujeros negros? Perspectivas.\n17:00  T de Taller: Agentes de la A a la Z. Juego de estrategia en el universo LIJ. \nMARTES 12 de julio\nAterrizaje LIJ: Exploración\, ¿y conquista?.  Evolución vs revolución\n10:30 T de Teoría: Entornos de mediación. Espacios\, mapas y contextos\n12:00 T de Tertulia: Fricciones y aterrizajes forzosos\, algunas maneras de fracasar.\n17:00 T de Taller: Fundar catálogos (im-)posibles. \nMIÉRCOLES 13 de julio\nDentro y fuera.  Sentarse en la frontera\n10:30 T de Teoría:  Humor: viejas fronteras\, nuevas aduanas.  A cargo de Celia Blanco Vallejo.\n12:00 T de Tertulia: Invasiones invertidas: la representación desde la ficción.\n17:00T de Taller:  Alien\, la otredad. Taller de dramatización. \nJUEVES 14 de julio\nEl patio de vecinas.  La comunidad próxima\n10:30 T de teoría: Motomami\, no te mires en el río… matarile rile rile ro: tradición\, cultura popular\, referencias y contemporaneidad.\n12:00 T de tertulia: la hoja vecinal. Comunicación\, medios\, interferencias.\n17:00 T de taller: El juego de las sillas. \nVIERNES 15 de julio\nDe puertas adentro: Unos por otros… y la casa sin barrer. \n10:30 T de Teoría: En casa del herrero… Firmes promesas de Año Nuevo.\n12:00 T de Tertulia: ¿Dónde queda el lector? Infancia\, juventud y otredad lectora.\n17:00 T de Taller: Trampantojo\, un juego de los oficios.
URL:https://elbosquedelamagacolibri.es/evento/tiempo-de-lectura-2022-viii-jornadas-de-mediacion-lectora/
LOCATION:El Bosque de la Maga Colibrí\, Avda. Rufo Rendueles 9\, bajo\, Gijón\, Asturias\, 33202\, España
CATEGORIES:Formación,Jornadas de Mediación Lectora
ATTACH;FMTTYPE=image/jpeg:https://elbosquedelamagacolibri.es/wp-content/uploads/2022/04/278122209_10223768642795485_6013329648810005482_n.jpg
END:VEVENT
END:VCALENDAR