BEGIN:VCALENDAR
VERSION:2.0
PRODID:-//El Bosque de la Maga Colibrí - ECPv6.14.1//NONSGML v1.0//EN
CALSCALE:GREGORIAN
METHOD:PUBLISH
X-WR-CALNAME:El Bosque de la Maga Colibrí
X-ORIGINAL-URL:https://elbosquedelamagacolibri.es
X-WR-CALDESC:Eventos para El Bosque de la Maga Colibrí
REFRESH-INTERVAL;VALUE=DURATION:PT1H
X-Robots-Tag:noindex
X-PUBLISHED-TTL:PT1H
BEGIN:VTIMEZONE
TZID:Europe/Madrid
BEGIN:DAYLIGHT
TZOFFSETFROM:+0100
TZOFFSETTO:+0200
TZNAME:CEST
DTSTART:20210328T010000
END:DAYLIGHT
BEGIN:STANDARD
TZOFFSETFROM:+0200
TZOFFSETTO:+0100
TZNAME:CET
DTSTART:20211031T010000
END:STANDARD
END:VTIMEZONE
BEGIN:VEVENT
DTSTART;TZID=Europe/Madrid:20211005T203000
DTEND;TZID=Europe/Madrid:20211005T220000
DTSTAMP:20260423T050401
CREATED:20210916T182310Z
LAST-MODIFIED:20210925T094848Z
UID:2460-1633465800-1633471200@elbosquedelamagacolibri.es
SUMMARY:CURSO ANUAL DE TEATRO PARA ADULTOS
DESCRIPTION:Vuelve nuestro taller anual de Teatro del Bosque\, con más fuerza que nunca. Tras un largo periodo de sequía creativa por causas ajenas a nuestra voluntad\, volvemos con una clara necesidad: recuperar la alegría\, soltar\, respirar… Por eso este curso trabajaremos improvisaciones de situación que crearemos a partir de premisas indicadas por el profesor\, de fragmentos de textos\, cuadros e incluso anécdotas. \nTaller a cargo de Daniel López. Todos los martes\, de octubre a junio\, de 20\,30 a 22h. Inicio: martes 5 de octubre. Plazo para la inscripción: 30 de septiembre \n\n\n\n\n\n\n\n\n\n 
URL:https://elbosquedelamagacolibri.es/evento/curso-anual-de-teatro-para-adultos/
LOCATION:El Bosque de la Maga Colibrí\, Avda. Rufo Rendueles 9\, bajo\, Gijón\, Asturias\, 33202\, España
CATEGORIES:Teatro
END:VEVENT
END:VCALENDAR