BEGIN:VCALENDAR
VERSION:2.0
PRODID:-//El Bosque de la Maga Colibrí - ECPv6.14.1//NONSGML v1.0//EN
CALSCALE:GREGORIAN
METHOD:PUBLISH
X-WR-CALNAME:El Bosque de la Maga Colibrí
X-ORIGINAL-URL:https://elbosquedelamagacolibri.es
X-WR-CALDESC:Eventos para El Bosque de la Maga Colibrí
REFRESH-INTERVAL;VALUE=DURATION:PT1H
X-Robots-Tag:noindex
X-PUBLISHED-TTL:PT1H
BEGIN:VTIMEZONE
TZID:Europe/Madrid
BEGIN:DAYLIGHT
TZOFFSETFROM:+0100
TZOFFSETTO:+0200
TZNAME:CEST
DTSTART:20230326T010000
END:DAYLIGHT
BEGIN:STANDARD
TZOFFSETFROM:+0200
TZOFFSETTO:+0100
TZNAME:CET
DTSTART:20231029T010000
END:STANDARD
END:VTIMEZONE
BEGIN:VEVENT
DTSTART;TZID=Europe/Madrid:20230304T100000
DTEND;TZID=Europe/Madrid:20230304T190000
DTSTAMP:20260425T144153
CREATED:20230118T103557Z
LAST-MODIFIED:20230118T103557Z
UID:4290-1677924000-1677956400@elbosquedelamagacolibri.es
SUMMARY:CURSO DE ELABORACIÓN DE JABONES ECOLÓGICOS
DESCRIPTION:En este curso de Artesanamente aprenderás las diferentes técnicas para conseguir elaborar una gran variedad de jabones: hechos con sosa\, con potasa\, jabón para el lavavajillas\, la lavadora\, gel y champú con tensioactivos eco-cert\, champú sólido\, etc…cuidarás así tu higiene personal de una forma más saludable\, elaborando productos de calidad\, con los mejores ingredientes y adaptados a tus necesidades. \nSábado 4 de marzo\, de 10 a 14h y de 16 a 19h.\nPrecio: 60€\nTemario\, información en inscripciones aquí: https://artesanamente.es/jabones-cosmetica-zero-waste/
URL:https://elbosquedelamagacolibri.es/evento/curso-de-elaboracion-de-jabones-ecologicos-2/
ATTACH;FMTTYPE=image/jpeg:https://elbosquedelamagacolibri.es/wp-content/uploads/2022/03/jabones.jpg
END:VEVENT
END:VCALENDAR