BEGIN:VCALENDAR
VERSION:2.0
PRODID:-//El Bosque de la Maga Colibrí - ECPv6.14.1//NONSGML v1.0//EN
CALSCALE:GREGORIAN
METHOD:PUBLISH
X-WR-CALNAME:El Bosque de la Maga Colibrí
X-ORIGINAL-URL:https://elbosquedelamagacolibri.es
X-WR-CALDESC:Eventos para El Bosque de la Maga Colibrí
REFRESH-INTERVAL;VALUE=DURATION:PT1H
X-Robots-Tag:noindex
X-PUBLISHED-TTL:PT1H
BEGIN:VTIMEZONE
TZID:Europe/Madrid
BEGIN:DAYLIGHT
TZOFFSETFROM:+0100
TZOFFSETTO:+0200
TZNAME:CEST
DTSTART:20220327T010000
END:DAYLIGHT
BEGIN:STANDARD
TZOFFSETFROM:+0200
TZOFFSETTO:+0100
TZNAME:CET
DTSTART:20221030T010000
END:STANDARD
END:VTIMEZONE
BEGIN:VEVENT
DTSTART;TZID=Europe/Madrid:20220830T170000
DTEND;TZID=Europe/Madrid:20220830T183000
DTSTAMP:20260421T134955
CREATED:20220818T111208Z
LAST-MODIFIED:20220818T111208Z
UID:4068-1661878800-1661884200@elbosquedelamagacolibri.es
SUMMARY:DESPERTANDO SUEÑOS. Comparte con tu bebé ritmos\, sensaciones y movimiento.
DESCRIPTION:Un taller de CONCERTINO para crear momentos de juego y movimiento con tu bebé\, a través de las músicas y danzas del mundo.    Trabajaremos el movimiento pélvico y la consciencia corporal a la vez que tu bebé siente el ritmo y el acompañamiento.   Fortaleceremos el vínculo y el apego seguros a través del canto\, la danza y el tacto. \nDirigido a familias con bebés de 0 a 12 meses.\nAdulto + bebé: 11 euros (precio especial de lanzamiento de la actividad) \nInscripciones en el 984 19 24 41\, en la librería o por email a info@elbosquedelamagacolibri.es
URL:https://elbosquedelamagacolibri.es/evento/despertando-suenos-comparte-con-tu-bebe-ritmos-sensaciones-y-movimiento/
LOCATION:El Bosque de la Maga Colibrí\, Avda. Rufo Rendueles 9\, bajo\, Gijón\, Asturias\, 33202\, España
CATEGORIES:Música en familia
ATTACH;FMTTYPE=image/jpeg:https://elbosquedelamagacolibri.es/wp-content/uploads/2022/08/IMG-20220818-WA0007.jpg
END:VEVENT
END:VCALENDAR